BEGIN:VCALENDAR
PRODID:-//ROO Calendar//iCal4j 1.0//EN
VERSION:2.0
CALSCALE:GREGORIAN
BEGIN:VEVENT
DTSTAMP:20210528T041708Z
DTSTART:20210517T133000
DTEND:20210517T143000
SUMMARY:Public Hearing Notice
UID:20210528T041708Z-uidGen@fe80:0:0:0:250:56ff:feb1:6cb%eth0
TZID:America/New_York
LOCATION:GoToMeeting
END:VEVENT
END:VCALENDAR
