BEGIN:VCALENDAR
PRODID:-//ROO Calendar//iCal4j 1.0//EN
VERSION:2.0
CALSCALE:GREGORIAN
BEGIN:VEVENT
DTSTAMP:20210528T041807Z
DTSTART:20210520T103000
DTEND:20210520T113000
SUMMARY:Public Hearing Notice
UID:20210528T041807Z-uidGen@fe80:0:0:0:250:56ff:feb1:6cb%eth0
TZID:America/New_York
LOCATION:https://oh-tech.webex.com/oh-tech/j.php?MTID=mda803d889bcd4539dd
 e93ffe10226a7e
END:VEVENT
END:VCALENDAR
