BEGIN:VCALENDAR
PRODID:-//ROO Calendar//iCal4j 1.0//EN
VERSION:2.0
CALSCALE:GREGORIAN
BEGIN:VEVENT
DTSTAMP:20210528T041818Z
DTSTART:20210521T090000
DTEND:20210521T100000
SUMMARY:Public Hearing Notice
UID:20210528T041818Z-uidGen@fe80:0:0:0:250:56ff:feb1:6cb%eth0
TZID:America/New_York
LOCATION:https://oh-tech.webex.com/oh-tech/j.php?MTID=mfa9a3d6d08e3d47948
 d97b1197eceaef
END:VEVENT
END:VCALENDAR
