BEGIN:VCALENDAR
PRODID:-//ROO Calendar//iCal4j 1.0//EN
VERSION:2.0
CALSCALE:GREGORIAN
BEGIN:VEVENT
DTSTAMP:20210528T041814Z
DTSTART:20210520T110000
DTEND:20210520T120000
SUMMARY:Public Hearing Notice
UID:20210528T041814Z-uidGen@fe80:0:0:0:250:56ff:feb1:6cb%eth0
TZID:America/New_York
LOCATION:via Microsoft Teams
END:VEVENT
END:VCALENDAR
