BEGIN:VCALENDAR
PRODID:-//ROO Calendar//iCal4j 1.0//EN
VERSION:2.0
CALSCALE:GREGORIAN
BEGIN:VEVENT
DTSTAMP:20210806T173828Z
DTSTART:20210729T100000
DTEND:20210729T110000
SUMMARY:Public Hearing Notice
UID:20210806T173828Z-uidGen@fe80:0:0:0:250:56ff:feb1:6cb%eth0
TZID:America/New_York
LOCATION:77 South High Street\, 17th Floor\, Columbus\, OH 43215
END:VEVENT
END:VCALENDAR
