BEGIN:VCALENDAR
PRODID:-//ROO Calendar//iCal4j 1.0//EN
VERSION:2.0
CALSCALE:GREGORIAN
BEGIN:VEVENT
DTSTAMP:20211024T120330Z
DTSTART:20211006T100000
DTEND:20211006T110000
SUMMARY:Public Hearing Notice
UID:20211024T120330Z-uidGen@fe80:0:0:0:250:56ff:feb1:6cb%eth0
TZID:America/New_York
LOCATION:Teleconference
END:VEVENT
END:VCALENDAR
