BEGIN:VCALENDAR
PRODID:-//ROO Calendar//iCal4j 1.0//EN
VERSION:2.0
CALSCALE:GREGORIAN
BEGIN:VEVENT
DTSTAMP:20211024T120336Z
DTSTART:20211008T103000
DTEND:20211008T113000
SUMMARY:Public Hearing Notice
UID:20211024T120336Z-uidGen@fe80:0:0:0:250:56ff:feb1:6cb%eth0
TZID:America/New_York
LOCATION:50 W. Town St.\, Room A501\, Columbus\, Oh 43215\; Phone:614-721
 -2972\,PIN 563932950
END:VEVENT
END:VCALENDAR
